BEGIN:VCALENDAR
PRODID:-//Hannon Hill Events//Cascade CMS//EN
VERSION:2.0
X-WR-CALNAME:Doctorate in Occupational Therapy Virtual Information Session
X-WR-TIMEZONE:America/New_York
BEGIN:VTIMEZONE
TZID:America/New_York
BEGIN:DAYLIGHT
TZOFFSETFROM:-0500
TZOFFSETTO:-0400
TZNAME:EDT
DTSTART:19700308T020000
RRULE:FREQ=YEARLY;BYMONTH=3;BYDAY=2SU
END:DAYLIGHT
BEGIN:STANDARD
TZOFFSETFROM:-0400
TZOFFSETTO:-0500
TZNAME:EST
DTSTART:19701101T020000
RRULE:FREQ=YEARLY;BYMONTH=11;BYDAY=1SU
END:STANDARD
END:VTIMEZONE
BEGIN:VEVENT
DTSTART:20260422T180000
DTEND:20260422T190000
DTSTAMP:20260421T181550
UID:4e1ea7d30a0000622aedac6f42c0ee7b
CREATED:20260402T081525
DESCRIPTION:Join us for an informative session to gain insights into Seton
  Hill&#8217\;s. OTD in Occupational Therapy.&#160\;Seton Hill&#8217\;s Doc
 torate in OT will prepare you to become an Occupational Therapist.&#160\;O
 ccupational therapy is a dynamic profession that plays a crucial role in h
 elping individuals overcome physical\, emotional\, and cognitive barriers 
 to daily living.&#160\; By earning a Doctorate in Occupational Therapy (OT
 D)\, you will position yourself in the forefront of a growing profession t
 hat helps people of all ages to thrive.&#160\;
LAST-MODIFIED:20260421T181527
SEQUENCE:0
STATUS:CONFIRMED
SUMMARY:Doctorate in Occupational Therapy Virtual Information Session
TRANSP:OPAQUE
END:VEVENT
END:VCALENDAR
